BEGIN:VCALENDAR
VERSION:2.0
PRODID:-//Auckland Paddle Fest - ECPv4.6.24.1//NONSGML v1.0//EN
CALSCALE:GREGORIAN
METHOD:PUBLISH
X-WR-CALNAME:Auckland Paddle Fest
X-ORIGINAL-URL:https://www.aucklandpaddlefest.co.nz
X-WR-CALDESC:Events for Auckland Paddle Fest
BEGIN:VEVENT
DTSTART;TZID=Pacific/Auckland:20190119T090000
DTEND;TZID=Pacific/Auckland:20190119T150000
DTSTAMP:20181223T020829
CREATED:20181010T005512Z
LAST-MODIFIED:20181207T013112Z
UID:4332-1547888400-1547910000@www.aucklandpaddlefest.co.nz
SUMMARY:Auckland Paddlefest Event #7
DESCRIPTION:
URL:https://www.aucklandpaddlefest.co.nz/event/auckland-paddlefest-event-6/
LOCATION:Pauanui\, Easdale Place\, Pauanui\, 3579\, New Zealand
END:VEVENT
BEGIN:VEVENT
DTSTART;TZID=Pacific/Auckland:20190131T173000
DTEND;TZID=Pacific/Auckland:20190131T193000
DTSTAMP:20181223T020829
CREATED:20181010T014629Z
LAST-MODIFIED:20181010T014629Z
UID:4340-1548955800-1548963000@www.aucklandpaddlefest.co.nz
SUMMARY:Auckland Paddlefest Event #8
DESCRIPTION:
URL:https://www.aucklandpaddlefest.co.nz/event/auckland-paddlefest-event-8/
LOCATION:Mission Bay\, Mission Bay\, Auckland\, New Zealand
END:VEVENT
BEGIN:VEVENT
DTSTART;TZID=Pacific/Auckland:20190207T173000
DTEND;TZID=Pacific/Auckland:20190207T193000
DTSTAMP:20181223T020829
CREATED:20181010T014759Z
LAST-MODIFIED:20181010T014759Z
UID:4342-1549560600-1549567800@www.aucklandpaddlefest.co.nz
SUMMARY:Auckland Paddlefest Event #9
DESCRIPTION:
URL:https://www.aucklandpaddlefest.co.nz/event/auckland-paddlefest-event-9/
LOCATION:Mission Bay\, Mission Bay\, Auckland\, New Zealand
END:VEVENT
BEGIN:VEVENT
DTSTART;TZID=Pacific/Auckland:20190214T173000
DTEND;TZID=Pacific/Auckland:20190214T193000
DTSTAMP:20181223T020829
CREATED:20181010T014842Z
LAST-MODIFIED:20181010T014842Z
UID:4344-1550165400-1550172600@www.aucklandpaddlefest.co.nz
SUMMARY:Auckland Paddlefest Event #10
DESCRIPTION:
URL:https://www.aucklandpaddlefest.co.nz/event/auckland-paddlefest-event-10/
LOCATION:Mission Bay\, Mission Bay\, Auckland\, New Zealand
END:VEVENT
BEGIN:VEVENT
DTSTART;TZID=Pacific/Auckland:20190221T173000
DTEND;TZID=Pacific/Auckland:20190221T193000
DTSTAMP:20181223T020829
CREATED:20181010T014919Z
LAST-MODIFIED:20181010T014919Z
UID:4346-1550770200-1550777400@www.aucklandpaddlefest.co.nz
SUMMARY:Auckland Paddlefest Event #11
DESCRIPTION:
URL:https://www.aucklandpaddlefest.co.nz/event/auckland-paddlefest-event-11/
LOCATION:Mission Bay\, Mission Bay\, Auckland\, New Zealand
END:VEVENT
BEGIN:VEVENT
DTSTART;TZID=Pacific/Auckland:20190228T173000
DTEND;TZID=Pacific/Auckland:20190228T193000
DTSTAMP:20181223T020829
CREATED:20181010T014957Z
LAST-MODIFIED:20181010T014957Z
UID:4348-1551375000-1551382200@www.aucklandpaddlefest.co.nz
SUMMARY:Auckland Paddlefest Event #12
DESCRIPTION:
URL:https://www.aucklandpaddlefest.co.nz/event/auckland-paddlefest-event-12/
LOCATION:Mission Bay\, Mission Bay\, Auckland\, New Zealand
END:VEVENT
END:VCALENDAR